BEGIN:VCALENDAR
VERSION:2.0
PRODID:-//Squarespace Inc/Squarespace 6//v6//EN
BEGIN:VEVENT
UID:59e61006268b96fdf69ba7b1@squarespace.com
DTSTAMP:20171017T142309Z
DTSTART:20171201T093000Z
DTEND:20171201T173000Z
SUMMARY:Bucket Collection - Manor West\, Tralee
END:VEVENT
END:VCALENDAR
