BEGIN:VCALENDAR
VERSION:2.0
PRODID:-//Squarespace Inc/Squarespace 6//v6//EN
BEGIN:VEVENT
UID:59e60e649f8dcefad919a5f0@squarespace.com
DTSTAMP:20171017T142359Z
DTSTART:20171111T093000Z
DTEND:20171111T173000Z
SUMMARY:Bucket Collection - Blackpool\, Cork
END:VEVENT
END:VCALENDAR
